BEGIN:VCALENDAR
VERSION:2.0
PRODID:-//Norton Gas - ECPv4.9.13//NONSGML v1.0//EN
CALSCALE:GREGORIAN
METHOD:PUBLISH
X-WR-CALNAME:Norton Gas
X-ORIGINAL-URL:https://nortonsgas.com
X-WR-CALDESC:Events for Norton Gas
BEGIN:VTIMEZONE
TZID:America/New_York
BEGIN:DAYLIGHT
TZOFFSETFROM:-0500
TZOFFSETTO:-0400
TZNAME:EDT
DTSTART:20190310T070000
END:DAYLIGHT
BEGIN:STANDARD
TZOFFSETFROM:-0400
TZOFFSETTO:-0500
TZNAME:EST
DTSTART:20191103T060000
END:STANDARD
END:VTIMEZONE
BEGIN:VEVENT
DTSTART;VALUE=DATE:20190917
DTEND;VALUE=DATE:20190918
DTSTAMP:20260425T213322
CREATED:20190502T142311Z
LAST-MODIFIED:20190502T142311Z
UID:3958-1568678400-1568764799@nortonsgas.com
SUMMARY:E Zone - All Deliveries
DESCRIPTION:
URL:https://nortonsgas.com/event/e-zone-all-deliveries-4/
CATEGORIES:All Deliveries
END:VEVENT
END:VCALENDAR