BEGIN:VCALENDAR
VERSION:2.0
PRODID:-//Norton Gas - ECPv4.9.13//NONSGML v1.0//EN
CALSCALE:GREGORIAN
METHOD:PUBLISH
X-WR-CALNAME:Norton Gas
X-ORIGINAL-URL:https://nortonsgas.com
X-WR-CALDESC:Events for Norton Gas
BEGIN:VTIMEZONE
TZID:America/New_York
BEGIN:DAYLIGHT
TZOFFSETFROM:-0500
TZOFFSETTO:-0400
TZNAME:EDT
DTSTART:20220313T070000
END:DAYLIGHT
BEGIN:STANDARD
TZOFFSETFROM:-0400
TZOFFSETTO:-0500
TZNAME:EST
DTSTART:20221106T060000
END:STANDARD
END:VTIMEZONE
BEGIN:VEVENT
DTSTART;VALUE=DATE:20221117
DTEND;VALUE=DATE:20221118
DTSTAMP:20260422T193625
CREATED:20221128T163543Z
LAST-MODIFIED:20221128T163543Z
UID:13312-1668643200-1668729599@nortonsgas.com
SUMMARY:M-Zone – Winter Deliveries
DESCRIPTION:
URL:https://nortonsgas.com/event/m-zone-winter-deliveries-15/
CATEGORIES:Winter Routes
END:VEVENT
END:VCALENDAR