BEGIN:VCALENDAR
VERSION:2.0
PRODID:-//Norton Gas - ECPv4.9.13//NONSGML v1.0//EN
CALSCALE:GREGORIAN
METHOD:PUBLISH
X-WR-CALNAME:Norton Gas
X-ORIGINAL-URL:https://nortonsgas.com
X-WR-CALDESC:Events for Norton Gas
BEGIN:VTIMEZONE
TZID:America/New_York
BEGIN:DAYLIGHT
TZOFFSETFROM:-0500
TZOFFSETTO:-0400
TZNAME:EDT
DTSTART:20210314T070000
END:DAYLIGHT
BEGIN:STANDARD
TZOFFSETFROM:-0400
TZOFFSETTO:-0500
TZNAME:EST
DTSTART:20211107T060000
END:STANDARD
END:VTIMEZONE
BEGIN:VEVENT
DTSTART;VALUE=DATE:20210831
DTEND;VALUE=DATE:20210901
DTSTAMP:20260423T143658
CREATED:20210624T175201Z
LAST-MODIFIED:20210624T175201Z
UID:12836-1630368000-1630454399@nortonsgas.com
SUMMARY:L Zone – All Deliveries
DESCRIPTION:
URL:https://nortonsgas.com/event/l-zone-all-deliveries-16/
CATEGORIES:All Deliveries
END:VEVENT
END:VCALENDAR