BEGIN:VCALENDAR
VERSION:2.0
PRODID:-//Norton Gas - ECPv4.9.13//NONSGML v1.0//EN
CALSCALE:GREGORIAN
METHOD:PUBLISH
X-WR-CALNAME:Norton Gas
X-ORIGINAL-URL:https://nortonsgas.com
X-WR-CALDESC:Events for Norton Gas
BEGIN:VTIMEZONE
TZID:America/New_York
BEGIN:DAYLIGHT
TZOFFSETFROM:-0500
TZOFFSETTO:-0400
TZNAME:EDT
DTSTART:20200308T070000
END:DAYLIGHT
BEGIN:STANDARD
TZOFFSETFROM:-0400
TZOFFSETTO:-0500
TZNAME:EST
DTSTART:20201101T060000
END:STANDARD
END:VTIMEZONE
BEGIN:VEVENT
DTSTART;VALUE=DATE:20200831
DTEND;VALUE=DATE:20200901
DTSTAMP:20260424T070817
CREATED:20200519T170830Z
LAST-MODIFIED:20200519T170830Z
UID:4939-1598832000-1598918399@nortonsgas.com
SUMMARY:K Zone – All Deliveries
DESCRIPTION:
URL:https://nortonsgas.com/event/k-zone-all-deliveries-10/
CATEGORIES:All Deliveries
END:VEVENT
END:VCALENDAR