BEGIN:VCALENDAR
VERSION:2.0
PRODID:-//Norton Gas - ECPv4.9.13//NONSGML v1.0//EN
CALSCALE:GREGORIAN
METHOD:PUBLISH
X-WR-CALNAME:Norton Gas
X-ORIGINAL-URL:https://nortonsgas.com
X-WR-CALDESC:Events for Norton Gas
BEGIN:VTIMEZONE
TZID:America/New_York
BEGIN:DAYLIGHT
TZOFFSETFROM:-0500
TZOFFSETTO:-0400
TZNAME:EDT
DTSTART:20200308T070000
END:DAYLIGHT
BEGIN:STANDARD
TZOFFSETFROM:-0400
TZOFFSETTO:-0500
TZNAME:EST
DTSTART:20201101T060000
END:STANDARD
END:VTIMEZONE
BEGIN:VEVENT
DTSTART;VALUE=DATE:20201027
DTEND;VALUE=DATE:20201028
DTSTAMP:20260422T095614
CREATED:20200917T143101Z
LAST-MODIFIED:20200917T143101Z
UID:7306-1603756800-1603843199@nortonsgas.com
SUMMARY:L Zone – All Deliveries
DESCRIPTION:
URL:https://nortonsgas.com/event/l-zone-all-deliveries-11/
CATEGORIES:All Deliveries
END:VEVENT
END:VCALENDAR